BEGIN:VCALENDAR
VERSION:2.0
PRODID:-//wp-events-plugin.com//7.2.3.1//EN
TZID:Europe/London
X-WR-TIMEZONE:Europe/London
BEGIN:VEVENT
UID:23@stkyard.co.uk
DTSTART;TZID=Europe/London;VALUE=DATE:20250906
DTEND;TZID=Europe/London;VALUE=DATE:20250907
DTSTAMP:20250530T112808Z
URL:https://www.stkyard.co.uk/events/southern-frontier-country-band/
SUMMARY:Southern Frontier Country Band
DESCRIPTION:Wanted! Dead or alive! On the 6th September Southern Frontier w
 ill be headlining at The Stockyard in the Banqueting Suite for a night ful
 l of classic and modern country favourites.\n\nDust off your cowboy hat an
 d boots and get ready to party like there’s no bounty on your head when 
 Southern Frontier are in town. The band is formed of five experienced Leic
 estershire musicians who also transform well-known pop and rock tunes with
  a dreamy southern twang.\n\nIf you want to catch Leicester’s most ‘wa
 nted’ country band\, purchase your tickets here: https://buytickets.at/t
 hestockyardmm/1640689   
ATTACH;FMTTYPE=image/jpeg:https://www.stkyard.co.uk/wp-content/uploads/202
 5/03/476257357_591137460479788_4735185254868253835_n-e1741959017436.jpeg
END:VEVENT
BEGIN:VTIMEZONE
TZID:Europe/London
X-LIC-LOCATION:Europe/London
BEGIN:DAYLIGHT
DTSTART:20250330T020000
TZOFFSETFROM:+0000
TZOFFSETTO:+0100
TZNAME:BST
END:DAYLIGHT
END:VTIMEZONE
END:VCALENDAR