BEGIN:VCALENDAR
VERSION:2.0
PRODID:-//wp-events-plugin.com//7.2.3.1//EN
TZID:Europe/London
X-WR-TIMEZONE:Europe/London
BEGIN:VEVENT
UID:59@stkyard.co.uk
DTSTART;TZID=Europe/London:20260305T183000
DTEND;TZID=Europe/London:20260305T220000
DTSTAMP:20260220T101653Z
URL:https://www.stkyard.co.uk/events/psychic-supper-the-stockyard/
SUMMARY:Psychic Supper
DESCRIPTION:We are excited to hold another Psychic Supper in our Tavern Bar
 \, hosted by Hope &amp\; Harmony Events.\n\nUnlock the mysteries of your f
 uture at one of their Psychic Supper events. Indulge in a meal cooked by o
 ur brilliant Tavern team while connecting with gifted mediums\, psychics a
 nd tarot readers.\n\nJoin us at The Tavern for tickets costing £32\, whic
 h includes a homemade curry supper from our Tavern Team. We had brilliant 
 reviews of our supper last time\, so we're excited to be producing a delic
 ious meal for the guests again! Psychics/Mediums will visit your table\, c
 onveying messages or readings.\n\nTickets are on sale via their website: h
 ttps://www.hopeandharmonyevents.com/collections/psychic-suppers\n\nPlease 
 Note: This is an over-18s-only event.\n\nWe are also holding another of Ho
 pe &amp\; Harmony's Spiritual &amp\; Wellbeing shows on the 4th July\, che
 ck out our events list for more details.
ATTACH;FMTTYPE=image/jpeg:https://www.stkyard.co.uk/wp-content/uploads/202
 6/01/g888d85adcc0fda38a2f3cbc4581bb872446e78d288bf3d04e8a95c91eef24d555c88
 7390a61aea993987a5aa6173f2380a1a13de6b90eecd63fc26b4d380df66_1280-4845617.
 jpg
END:VEVENT
BEGIN:VTIMEZONE
TZID:Europe/London
X-LIC-LOCATION:Europe/London
BEGIN:STANDARD
DTSTART:20251026T010000
TZOFFSETFROM:+0100
TZOFFSETTO:+0000
TZNAME:GMT
END:STANDARD
END:VTIMEZONE
END:VCALENDAR