BEGIN:VCALENDAR
VERSION:2.0
PRODID:-//wp-events-plugin.com//7.2.3.1//EN
TZID:Europe/London
X-WR-TIMEZONE:Europe/London
BEGIN:VEVENT
UID:77@stkyard.co.uk
DTSTART;TZID=Europe/London:20260725T000000
DTEND;TZID=Europe/London:20260725T000000
DTSTAMP:20260415T134428Z
URL:https://www.stkyard.co.uk/events/midlands-makers-melton-applications/
SUMMARY:Midlands Makers Melton Applications
DESCRIPTION:New market launch!!!\n\nWe're so excited to announce that appli
 cations are open for our partnership with Midlands Makers to bring you the
 ir biggest market to date!!\n\nMidlands Makers is the creative loop of the
  Midlands\, running to celebrate and exhibit the fantastic creatives of th
 e Midlands. Our partnership has stemmed from our shared love for celebrati
 ng and providing a home for small\, local\, and independent businesses. Th
 rough our collaboration\, this is exactly what we will be offering to trad
 ers with the event.\n\nWe are expecting a lovely summers day surrounded by
  fantastic creatives in the centre of Melton Mowbray.\n\nBefore this is co
 nfirmed\, we need to know how many people are interested in having a stall
  for this event. So\, get your applications in ASAP!\n\nApplications are o
 pen nationwide and will close on Friday 17th April. You can apply here: ht
 tps://www.midlandsmakers.co.uk/post/another-new-location-added-for-midland
 s-makers-market
ATTACH;FMTTYPE=image/jpeg:https://www.stkyard.co.uk/wp-content/uploads/202
 6/04/7B3AA05E-DD88-4ED4-A137-AF4FD5A20B56_4_5005_c-e1776260569279.jpeg
END:VEVENT
BEGIN:VTIMEZONE
TZID:Europe/London
X-LIC-LOCATION:Europe/London
BEGIN:DAYLIGHT
DTSTART:20260329T020000
TZOFFSETFROM:+0000
TZOFFSETTO:+0100
TZNAME:BST
END:DAYLIGHT
END:VTIMEZONE
END:VCALENDAR