BEGIN:VCALENDAR
VERSION:2.0
PRODID:-//wp-events-plugin.com//7.2.3.1//EN
TZID:Europe/London
X-WR-TIMEZONE:Europe/London
BEGIN:VEVENT
UID:56@stkyard.co.uk
DTSTART;TZID=Europe/London:20260321T110000
DTEND;TZID=Europe/London:20260321T160000
DTSTAMP:20260224T090403Z
URL:https://www.stkyard.co.uk/events/melton-comic-con/
SUMMARY:Melton Comic Con
DESCRIPTION:We are thrilled to have Bolt Events return to host Melton Comic
  Con again here at The Stockyard on Saturday 21st March 2026!\n\nDo you lo
 ve pop culture? Do you have favourite film\, TV\, book and video game char
 acters? Well\, there will be something for you here at Melton Comic Con.\n
 \nAn affordable and enjoyable experience for the whole family featuring ic
 onic characters\, costume characters\, retro gaming and a great selection 
 of stalls with collectables and crafts. Once you're make sure to take part
  in the FREE workshops and activities.\n\nEach year brings different stall
 s\, characters and iconic set pieces. So\, come dressed as your favourite 
 character or just your super self\, everyone is welcome.\n\nKeep an eye on
  their social pages for all updates and what to expect on the day! Tickets
  can be purchased here\, alongside more information on early entry for tho
 se that prefer a quieter experience: https://MeltonMowbrayComicCon.eventbr
 ite.co.uk 
ATTACH;FMTTYPE=image/jpeg:https://www.stkyard.co.uk/wp-content/uploads/202
 5/12/melton-comic-con-mar26.jpeg
END:VEVENT
BEGIN:VTIMEZONE
TZID:Europe/London
X-LIC-LOCATION:Europe/London
BEGIN:STANDARD
DTSTART:20251026T010000
TZOFFSETFROM:+0100
TZOFFSETTO:+0000
TZNAME:GMT
END:STANDARD
END:VTIMEZONE
END:VCALENDAR