BEGIN:VCALENDAR
VERSION:2.0
PRODID:-//wp-events-plugin.com//7.2.3.1//EN
TZID:Europe/London
X-WR-TIMEZONE:Europe/London
BEGIN:VEVENT
UID:11@stkyard.co.uk
DTSTART;TZID=Europe/London:20250503T100000
DTEND;TZID=Europe/London:20250503T160000
DTSTAMP:20250415T104826Z
URL:https://www.stkyard.co.uk/events/comic-con-2025/
SUMMARY:Comic Con 2025
DESCRIPTION:Comic Con returns for 2025!\n\nAfter the success of 2024\, Comi
 c Con is returning to The Stockyard. So\, why not come for a full day  im
 mersed in Comic Con culture with lots of people dressed as their favourite
  characters. Also with retro gaming\, face painting\, board and card gamin
 g areas\, movie cars on display and lots of exhibitors selling everything 
 from Star Wars to Stranger Things. A family friendly\, great value for mon
 ey event where everyone is welcome!\n\nBolt Events is a family-run company
  dedicated to providing a Comic Con experience that is inclusive to all on
  your doorstep. Each event has over 100 exhibitor tables\, including geeky
  memorabilia\, handmade crafts\, high-end comics\, action figures\, gifts 
 and trinkets. Plus\, activities ranging from cosplay competitions\, photo 
 opportunities\, workshops and many more! All of this is included in the en
 try price\, with no extra charges.\n\nFor Melton Mowbray many sneak peeks 
 are being revealed as the weeks pass by across social media platforms. Alr
 eady\, you can expect to ride a raptor\, meet Bluey\, take a selfie with P
 ikachu\, and ride Lightening McQueen! This is an event you and the family 
 do not want to miss.\n\nOpening Times:\n\n09:30: Quiet entry (by prior arr
 angement)\n\n10:00: Pre-paid entry\n\n10:30: On the day tickets\n\n16:00: 
 Close\n\nIf this is for you visit https://www.bolt-events.com/melton-mowbr
 ay-comic-con to purchase your tickets or for more information. Or\, email 
 zoe@bolt-events.com to secure your spot as a seller or food vendor. Don’
 t wait too long as spaces are limited.\n\n&nbsp\;
ATTACH;FMTTYPE=image/jpeg:https://www.stkyard.co.uk/wp-content/uploads/202
 5/03/Spider-man-e1741866995529.jpg
END:VEVENT
BEGIN:VTIMEZONE
TZID:Europe/London
X-LIC-LOCATION:Europe/London
BEGIN:DAYLIGHT
DTSTART:20250330T020000
TZOFFSETFROM:+0000
TZOFFSETTO:+0100
TZNAME:BST
END:DAYLIGHT
END:VTIMEZONE
END:VCALENDAR