BEGIN:VCALENDAR
VERSION:2.0
PRODID:-//wp-events-plugin.com//7.2.3.1//EN
TZID:Europe/London
X-WR-TIMEZONE:Europe/London
BEGIN:VEVENT
UID:40@stkyard.co.uk
DTSTART;TZID=Europe/London:20251025T100000
DTEND;TZID=Europe/London:20251025T160000
DTSTAMP:20250709T094437Z
URL:https://www.stkyard.co.uk/events/comic-con-2025-2/
SUMMARY:Comic Con 2025
DESCRIPTION:We're SUPER excited to announce that Comic Con will be coming b
 ack to The Stockyard on Saturday 25th of October!\n\nKeep an eye out on th
 eir Facebook page for all updates\, but what you can expect is exciting ex
 hibitors\, fantastic free activities and an event worth sticking in the ca
 lendar time and time again!\n\nJoin us for a fun-filled day\, including pr
 op photo ops\, retro gaming\, green screen photos\, character meets\, movi
 e cars and more.\n\nTimings:\n09.30 Quiet Entry (by prior arrangement)\n10
 .00 Prepaid tickets\n10.30 On the day tickets\n16.00 Close\nTicket Prices:
 \nAdvance Tickets - Entry from 10am - Available Online Only\nAdult - £8Te
 en (13-17 years old) &amp\; Student (Valid ID) - £6OAPs &amp\; Children (
 Valid ID for OAPs - Children 5–12 Years) - £3Blue Light (Valid ID - dis
 count is only for the card holder) - £3\nFamily Ticket (2 adults &amp\; 2
  Children) - £22\nUnder 5s FREE\nBooking Fee Applies\n​​​On The Day
  Tickets - Entry 10.30am - Available OTD Only\nAdults £10Teen (13-17 Year
 s Old/Student – Valid ID: £8OAPs &amp\; Children (5 – 12 Years Old) 
 £5Family Ticket £26(2 adults &amp\; 2 Children)Blue Light Card Holders 
 £5\nUnder 5s FREE\n\nFor more information and to book your tickets\, plea
 se visit their website:\nhttps://www.bolt-events.com/melton-mowbray-comic-
 con\nOr\, Facebook page: https://www.facebook.com/MeltonMowbrayComicConand
 ToyFair/ \n\n
ATTACH;FMTTYPE=image/jpeg:https://www.stkyard.co.uk/wp-content/uploads/202
 5/07/comic-con-icon-1024.jpeg
END:VEVENT
BEGIN:VTIMEZONE
TZID:Europe/London
X-LIC-LOCATION:Europe/London
BEGIN:DAYLIGHT
DTSTART:20250330T020000
TZOFFSETFROM:+0000
TZOFFSETTO:+0100
TZNAME:BST
END:DAYLIGHT
END:VTIMEZONE
END:VCALENDAR