BEGIN:VCALENDAR
VERSION:2.0
PRODID:-//wp-events-plugin.com//7.2.3.1//EN
TZID:Europe/London
X-WR-TIMEZONE:Europe/London
BEGIN:VEVENT
UID:2@stkyard.co.uk
DTSTART;TZID=Europe/London;VALUE=DATE:20241207
DTEND;TZID=Europe/London;VALUE=DATE:20241208
DTSTAMP:20241108T101210Z
URL:https://www.stkyard.co.uk/events/christmas-fair-melton-and-belvoir-agr
 icultural-society-fatstock/
SUMMARY:Christmas Fair & Melton and Belvoir Agricultural Society Fatstock
DESCRIPTION:Join us for the annual Christmas Fatstock Show &amp\; Sale orga
 nised by the Melton &amp\; Belvoir Agricultural Society (MBAS)\, held at t
 he Livestock Market on the first Saturday in December.\nThere will be an a
 mazing show of Livestock - Cattle\, Sheep\, Pigs and Goats\, including You
 ng Handler classes\; and Produce – Cheese\, Pork Pies\, Sausages\, Pastr
 ies\, Home Baking\, Junior Baking and Preserves -for the judges to conside
 r and all available for you to take home\, if you bid in the auctions!\nLa
 st year was a great success\, with the farming community both locally and 
 nationally competing and coming to the auctions\, with £6825.66 raised fo
 r the Mayor’s charities (LOROS and Dove Cottage Hospices)\, Royal Agricu
 ltural Benevolent Institution (RABI)\, Lincolnshire Rural Support Network 
 (LRSN) and Farming Community Network (FCN).\nThere is also a Dinner &amp\;
  Dance in the evening - look out for the separate event listing.\nThe Melt
 on &amp\; Belvoir Agricultural Society is a not-for-profit entity and exis
 ts to promote agriculture for current and future generations in the region
  and beyond\n\n
ATTACH;FMTTYPE=image/jpeg:https://www.stkyard.co.uk/wp-content/uploads/202
 4/11/347561581_294334476458286_5639423606614076505_n.jpg
END:VEVENT
BEGIN:VTIMEZONE
TZID:Europe/London
X-LIC-LOCATION:Europe/London
BEGIN:STANDARD
DTSTART:20241027T010000
TZOFFSETFROM:+0100
TZOFFSETTO:+0000
TZNAME:GMT
END:STANDARD
END:VTIMEZONE
END:VCALENDAR