BEGIN:VCALENDAR
VERSION:2.0
PRODID:-//wp-events-plugin.com//7.2.3.1//EN
TZID:Europe/London
X-WR-TIMEZONE:Europe/London
BEGIN:VEVENT
UID:20@stkyard.co.uk
DTSTART;TZID=Europe/London:20250719T210000
DTEND;TZID=Europe/London:20250719T210000
DTSTAMP:20250627T134610Z
URL:https://www.stkyard.co.uk/events/blondish/
SUMMARY:Blondish
DESCRIPTION:The Atomic Blondish are bringing life to the classic hits of Bl
 ondie to The Stockyard in the Banqueting Suite on Saturday 19th July.\n\nT
 hey are made up of some of the country’s top musicians who are committed
  to using their wealth of experience and attention to detail that does jus
 tice to one of the most original and talented bands that New York has ever
  produced. Their performance would Call Me to the dance floor.\n\nNo other
  tribute band comes close to the electrifying five-piece band that deliver
 s a stunning reproduction of the late 70s/early 80s New Wave sounds. It is
  a show you have been Dreaming of.\n\nDoors open at 8pm and the show begin
 s at 9pm.\n\nOne Way or Another you should purchase tickets to the concert
  here:\n\nhttps://wegottickets.com/event/651841
ATTACH;FMTTYPE=image/jpeg:https://www.stkyard.co.uk/wp-content/uploads/202
 5/03/54_band_v_colour.jpeg
END:VEVENT
BEGIN:VTIMEZONE
TZID:Europe/London
X-LIC-LOCATION:Europe/London
BEGIN:DAYLIGHT
DTSTART:20250330T020000
TZOFFSETFROM:+0000
TZOFFSETTO:+0100
TZNAME:BST
END:DAYLIGHT
END:VTIMEZONE
END:VCALENDAR